BEGIN:VCALENDAR
VERSION:2.0
PRODID:-//Southern Cross Institute - ECPv6.15.20//NONSGML v1.0//EN
CALSCALE:GREGORIAN
METHOD:PUBLISH
X-ORIGINAL-URL:https://sci.edu.au
X-WR-CALDESC:Events for Southern Cross Institute
REFRESH-INTERVAL;VALUE=DURATION:PT1H
X-Robots-Tag:noindex
X-PUBLISHED-TTL:PT1H
BEGIN:VTIMEZONE
TZID:Australia/Sydney
BEGIN:STANDARD
TZOFFSETFROM:+1100
TZOFFSETTO:+1000
TZNAME:AEST
DTSTART:20240406T160000
END:STANDARD
BEGIN:DAYLIGHT
TZOFFSETFROM:+1000
TZOFFSETTO:+1100
TZNAME:AEDT
DTSTART:20241005T160000
END:DAYLIGHT
BEGIN:STANDARD
TZOFFSETFROM:+1100
TZOFFSETTO:+1000
TZNAME:AEST
DTSTART:20250405T160000
END:STANDARD
BEGIN:DAYLIGHT
TZOFFSETFROM:+1000
TZOFFSETTO:+1100
TZNAME:AEDT
DTSTART:20251004T160000
END:DAYLIGHT
BEGIN:STANDARD
TZOFFSETFROM:+1100
TZOFFSETTO:+1000
TZNAME:AEST
DTSTART:20260404T160000
END:STANDARD
BEGIN:DAYLIGHT
TZOFFSETFROM:+1000
TZOFFSETTO:+1100
TZNAME:AEDT
DTSTART:20261003T160000
END:DAYLIGHT
END:VTIMEZONE
BEGIN:VTIMEZONE
TZID:UTC
BEGIN:STANDARD
TZOFFSETFROM:+0000
TZOFFSETTO:+0000
TZNAME:UTC
DTSTART:20240101T000000
END:STANDARD
END:VTIMEZONE
BEGIN:VEVENT
DTSTART;TZID=Australia/Sydney:20250507T080000
DTEND;TZID=Australia/Sydney:20250507T170000
DTSTAMP:20260423T135447
CREATED:20250514T070910Z
LAST-MODIFIED:20250514T235351Z
UID:12745-1746604800-1746637200@sci.edu.au
SUMMARY:Philanthropic Intiative: SCI Supports Aalam Bibi Foundation  Meet & Greet 2025
DESCRIPTION:  \nhttps://sci.edu.au/wp-content/uploads/2025/05/🎓-Professor-Asif-Iqbal-at-Meet-Greet-2025-_-Aalam-Bibi-Foundation.mp4\n 
URL:https://sci.edu.au/event/philanthropic-intiative-sci-supports-aalam-bibi-foundation-meet-greet-2025/
LOCATION:Chandri Village\, Lahore\, Pakistan\, Lahore\, Punjab\, Pakistan
ATTACH;FMTTYPE=image/jpeg:https://sci.edu.au/wp-content/uploads/2025/05/Aalam-Bibi-Event.jpg
END:VEVENT
BEGIN:VEVENT
DTSTART;TZID=UTC:20250507T123000
DTEND;TZID=UTC:20250507T133000
DTSTAMP:20260423T135447
CREATED:20250501T055951Z
LAST-MODIFIED:20250530T030723Z
UID:12392-1746621000-1746624600@sci.edu.au
SUMMARY:Multi-Cultural Lunch
DESCRIPTION:  \nhttps://sci.edu.au/wp-content/uploads/2025/05/2f3a7b32-7c61-4e53-b41b-6e9063f2f672.mp4
URL:https://sci.edu.au/event/multi-cultural-lunch/
LOCATION:SCI Campus\, Level 2\, 1-3 Fitzwilliam Street\, Parramatta NSW 2150\, Australia
CATEGORIES:Multi-Cultural Lunch
ATTACH;FMTTYPE=image/png:https://sci.edu.au/wp-content/uploads/2025/05/SCISA-Multicultural-Lunch-F.png
END:VEVENT
BEGIN:VEVENT
DTSTART;TZID=UTC:20250508T110000
DTEND;TZID=UTC:20250508T120000
DTSTAMP:20260423T135447
CREATED:20250511T233132Z
LAST-MODIFIED:20250516T000147Z
UID:12702-1746702000-1746705600@sci.edu.au
SUMMARY:Exclusive Talk with Prof. Joseph Cheer
DESCRIPTION: 
URL:https://sci.edu.au/event/exclusive-talk-with-prof-joseph-cheer/
LOCATION:Level 2/1 Fitzwilliam St\, Parramatta NSW 2150
CATEGORIES:Exclusive Talk with Prof. Joseph Cheer
ATTACH;FMTTYPE=image/png:https://sci.edu.au/wp-content/uploads/2025/05/Invited-Speaker-Series-Professor-Joseph-Cheer-Poster.png
ORGANIZER;CN="Southern Cross Institute (SCI)":MAILTO:info@sci.edu.au
END:VEVENT
BEGIN:VEVENT
DTSTART;TZID=UTC:20250514T100000
DTEND;TZID=UTC:20250514T140000
DTSTAMP:20260423T135447
CREATED:20250515T054744Z
LAST-MODIFIED:20250723T035041Z
UID:12832-1747216800-1747231200@sci.edu.au
SUMMARY:Educational Site Visit to Radisson Blu Plaza Hotel
DESCRIPTION:Our HOS203 Contemporary Accommodation Management students recently visited the Radisson Blu Plaza Hotel Sydney enhancing classroom learning with invaluable industry experience.  \n    \n 
URL:https://sci.edu.au/event/sci-x-radisson-blu-plaza-hotel-educational-site-visit/
LOCATION:Radisson Blu Plaza Hotel Educational Site Visit\, 27 O'Connell St\,\, Sydney\, NSW\, 2000\, Australia
ATTACH;FMTTYPE=image/jpeg:https://sci.edu.au/wp-content/uploads/2025/05/Cover.jpeg
END:VEVENT
BEGIN:VEVENT
DTSTART;TZID=UTC:20250520T093000
DTEND;TZID=UTC:20250520T123000
DTSTAMP:20260423T135447
CREATED:20250529T002953Z
LAST-MODIFIED:20250723T034909Z
UID:13009-1747733400-1747744200@sci.edu.au
SUMMARY:Professional Development Session : Managing for Team Wellbeing 
DESCRIPTION:As part of SCI’s ongoing commitment to professional development and staff wellbeing\, the Institute hosted a workplace mental health workshop in collaboration with the Black Dog Institute’s Managing for Team Wellbeing program. The session provided staff with evidence-based strategies to promote mental health\, support early intervention\, and enhance team cohesion.   \n    
URL:https://sci.edu.au/event/mental-health-at-work-workshop/
LOCATION:Southern Cross Institute (SCI)\, Level 2\, 1-3 Fitzwilliam Street\,\, Parramatta\, NSW\, 2150\, Australia
CATEGORIES:Mental Health at Work Workshop
ATTACH;FMTTYPE=image/jpeg:https://sci.edu.au/wp-content/uploads/2025/05/Cover-Photo-Mental-Health-at-Work-Workshop.jpg
END:VEVENT
END:VCALENDAR