BEGIN:VCALENDAR
VERSION:2.0
PRODID:-//Southern Cross Institute - ECPv6.15.20//NONSGML v1.0//EN
CALSCALE:GREGORIAN
METHOD:PUBLISH
X-ORIGINAL-URL:https://sci.edu.au
X-WR-CALDESC:Events for Southern Cross Institute
REFRESH-INTERVAL;VALUE=DURATION:PT1H
X-Robots-Tag:noindex
X-PUBLISHED-TTL:PT1H
BEGIN:VTIMEZONE
TZID:UTC
BEGIN:STANDARD
TZOFFSETFROM:+0000
TZOFFSETTO:+0000
TZNAME:UTC
DTSTART:20240101T000000
END:STANDARD
END:VTIMEZONE
BEGIN:VEVENT
DTSTART;TZID=UTC:20250403T100000
DTEND;TZID=UTC:20250403T140000
DTSTAMP:20260423T153314
CREATED:20250408T044345Z
LAST-MODIFIED:20250701T070519Z
UID:12117-1743674400-1743688800@sci.edu.au
SUMMARY:SCI x APWA Eid Milan Brunch 2025
DESCRIPTION: 
URL:https://sci.edu.au/event/eid-milan-brunch-party/
LOCATION:Ponds Community Hub
ATTACH;FMTTYPE=image/jpeg:https://sci.edu.au/wp-content/uploads/2025/04/unnamed-1.jpg
END:VEVENT
BEGIN:VEVENT
DTSTART;TZID=UTC:20250416T110000
DTEND;TZID=UTC:20250416T120000
DTSTAMP:20260423T153314
CREATED:20250416T001318Z
LAST-MODIFIED:20250530T032113Z
UID:12263-1744801200-1744804800@sci.edu.au
SUMMARY:Exclusive Talk with Ms. Tia Li
DESCRIPTION:
URL:https://sci.edu.au/event/exclusive-talk-with-ms-tia-li/
LOCATION:Level 2/1 Fitzwilliam St\, Parramatta NSW 2150
CATEGORIES:Exclusive Talk with Ms. Tia Li
ATTACH;FMTTYPE=image/png:https://sci.edu.au/wp-content/uploads/2025/04/ISS-Ms.-Tia-Li-Final-Final.png
ORGANIZER;CN="Southern Cross Institute (SCI)":MAILTO:info@sci.edu.au
END:VEVENT
END:VCALENDAR