BEGIN:VCALENDAR
VERSION:2.0
PRODID:-//Southern Cross Institute - ECPv6.15.20//NONSGML v1.0//EN
CALSCALE:GREGORIAN
METHOD:PUBLISH
X-WR-CALNAME:Southern Cross Institute
X-ORIGINAL-URL:https://sci.edu.au
X-WR-CALDESC:Events for Southern Cross Institute
REFRESH-INTERVAL;VALUE=DURATION:PT1H
X-Robots-Tag:noindex
X-PUBLISHED-TTL:PT1H
BEGIN:VTIMEZONE
TZID:Australia/Sydney
BEGIN:STANDARD
TZOFFSETFROM:+1100
TZOFFSETTO:+1000
TZNAME:AEST
DTSTART:20240406T160000
END:STANDARD
BEGIN:DAYLIGHT
TZOFFSETFROM:+1000
TZOFFSETTO:+1100
TZNAME:AEDT
DTSTART:20241005T160000
END:DAYLIGHT
BEGIN:STANDARD
TZOFFSETFROM:+1100
TZOFFSETTO:+1000
TZNAME:AEST
DTSTART:20250405T160000
END:STANDARD
BEGIN:DAYLIGHT
TZOFFSETFROM:+1000
TZOFFSETTO:+1100
TZNAME:AEDT
DTSTART:20251004T160000
END:DAYLIGHT
BEGIN:STANDARD
TZOFFSETFROM:+1100
TZOFFSETTO:+1000
TZNAME:AEST
DTSTART:20260404T160000
END:STANDARD
BEGIN:DAYLIGHT
TZOFFSETFROM:+1000
TZOFFSETTO:+1100
TZNAME:AEDT
DTSTART:20261003T160000
END:DAYLIGHT
END:VTIMEZONE
BEGIN:VTIMEZONE
TZID:UTC
BEGIN:STANDARD
TZOFFSETFROM:+0000
TZOFFSETTO:+0000
TZNAME:UTC
DTSTART:20220101T000000
END:STANDARD
END:VTIMEZONE
BEGIN:VTIMEZONE
TZID:UTC
BEGIN:STANDARD
TZOFFSETFROM:+0000
TZOFFSETTO:+0000
TZNAME:UTC
DTSTART:20230101T000000
END:STANDARD
END:VTIMEZONE
BEGIN:VTIMEZONE
TZID:Asia/Ho_Chi_Minh
BEGIN:STANDARD
TZOFFSETFROM:+0700
TZOFFSETTO:+0700
TZNAME:+07
DTSTART:20230101T000000
END:STANDARD
END:VTIMEZONE
BEGIN:VEVENT
DTSTART;TZID=Australia/Sydney:20250316T080000
DTEND;TZID=Australia/Sydney:20250316T170000
DTSTAMP:20260423T071203
CREATED:20250428T005917Z
LAST-MODIFIED:20250530T061437Z
UID:12290-1742112000-1742144400@sci.edu.au
SUMMARY:SCI x APWA International Women’s Day
DESCRIPTION:                                      
URL:https://sci.edu.au/event/sci-celebrates-international-womens-day-with-auspak-and-college-australian-humanity/
LOCATION:St Mary’s Memorial Hill\, St Mary’s\, NSW 2760
CATEGORIES:SCI x APWA International Women’s Day
ATTACH;FMTTYPE=image/jpeg:https://sci.edu.au/wp-content/uploads/2025/04/5.-SCI-x-APWA-International-Womens-Day.jpeg
END:VEVENT
BEGIN:VEVENT
DTSTART;TZID=UTC:20250314T090000
DTEND;TZID=UTC:20250314T120000
DTSTAMP:20260423T071203
CREATED:20250611T004400Z
LAST-MODIFIED:20250723T035509Z
UID:13146-1741942800-1741953600@sci.edu.au
SUMMARY:Teaching for Tomorrow - Professional Learning Series : GenAI Institutional Action Plan
DESCRIPTION:Dr. Anju Kalluvelil Janardhanan conducted a professional learning session on the GenAI Institutional Action Plan\, with a focus on Open and Secure Assessments. As GenAI continues to shape higher education\, the session explored how assessments can be redesigned to balance the use of GenAI tools while maintaining academic integrity.
URL:https://sci.edu.au/event/professional-development-session-on-the-genai-institutional-action-plan/
LOCATION:Southern Cross Institute (SCI)\, Level 2\, 1-3 Fitzwilliam Street\,\, Parramatta\, NSW\, 2150\, Australia
ATTACH;FMTTYPE=image/jpeg:https://sci.edu.au/wp-content/uploads/2025/06/4.jpg
END:VEVENT
BEGIN:VEVENT
DTSTART;TZID=Australia/Sydney:20250304T093000
DTEND;TZID=Australia/Sydney:20250304T123000
DTSTAMP:20260423T071203
CREATED:20250515T010148Z
LAST-MODIFIED:20250515T011942Z
UID:12768-1741080600-1741091400@sci.edu.au
SUMMARY:SCI Supports WSU International Women’s Day
DESCRIPTION:
URL:https://sci.edu.au/event/sci-supports-wsu-international-womens-day-accelerate-action-speed-up-progress-towards-gender-equality-celebrating-womens-achievements-advancing-gender-equality/
LOCATION:Western Sydney University\, Parramatta City Campus (1PSQ)\, Level 9 Conference Rooms 1 & 2\, 169 Macquarie Street\,\, Parramatta\, NSW\, 2150\, Australia
ATTACH;FMTTYPE=image/png:https://sci.edu.au/wp-content/uploads/2025/05/Picture1.png
END:VEVENT
BEGIN:VEVENT
DTSTART;TZID=UTC:20250303T100000
DTEND;TZID=UTC:20250303T150000
DTSTAMP:20260423T071203
CREATED:20241219T220525Z
LAST-MODIFIED:20250530T062516Z
UID:11680-1740996000-1741014000@sci.edu.au
SUMMARY:SCI New Student Orientation Program
DESCRIPTION:
URL:https://sci.edu.au/event/sci-new-student-orientation-program/
LOCATION:Level 2/1 Fitzwilliam St\, Parramatta NSW 2150
ATTACH;FMTTYPE=image/png:https://sci.edu.au/wp-content/uploads/2024/12/Southern-Cross-Institution-Orientation-1.png
ORGANIZER;CN="Southern Cross Institute (SCI)":MAILTO:info@sci.edu.au
END:VEVENT
BEGIN:VEVENT
DTSTART;TZID=UTC:20250211T080000
DTEND;TZID=UTC:20250213T170000
DTSTAMP:20260423T071203
CREATED:20250814T033825Z
LAST-MODIFIED:20250824T234001Z
UID:13487-1739260800-1739466000@sci.edu.au
SUMMARY:SCI’s Scholarly Activity Funding Initiatives – CAUTHE 2025 Annual Conference
DESCRIPTION:Dr Song Ee Hahn attended the CAUTHE 2025 Annual Conference and Chapter Directors’ Meeting held in Brisbane from 11–13 February 2025\, where she presented a co-authored paper: \nHahn\, S.E.\, Pratt\, M.\, & Le\, A. (2025). The impact of cultural orientation on student learning outcomes using a simulation. Conference Proceedings of the 2025 CAUTHE\, Brisbane\, Australia. \nThe presentation was well-received and generated rich academic dialogue on learning and teaching strategies. Dr Hahn engaged with peers from institutions across Australia and beyond\, discussing key educational challenges and innovations in the tourism and hospitality discipline. \nOverall\, the conference was a productive and insightful experience\, further strengthening SCI’s engagement in national academic networks.
URL:https://sci.edu.au/event/scis-scholarly-activity-funding-initiatives-cauthe-2025-annual-conference/
LOCATION:Brisbane\, Queensland
CATEGORIES:SCI’s Scholarly Activity Funding Initiatives – CAUTHE 2025 Annual Conference
ATTACH;FMTTYPE=image/jpeg:https://sci.edu.au/wp-content/uploads/2025/08/IMG_8164-scaled.jpg
END:VEVENT
BEGIN:VEVENT
DTSTART;TZID=UTC:20250208T180000
DTEND;TZID=UTC:20250208T220000
DTSTAMP:20260423T071203
CREATED:20250501T050550Z
LAST-MODIFIED:20250514T234345Z
UID:12362-1739037600-1739052000@sci.edu.au
SUMMARY:Philanthropic Initiative: SCI x Shaukat Khanum Memorial Cancer Hospital Fundraising Gala for Upcoming Karachi\, Pakistan Facility
DESCRIPTION:
URL:https://sci.edu.au/event/philanthropic-initiative-sci-x-shaukat-khanum-memorial-cancer-hospital-fundraising-gala-for-upcoming-karachi-pakistan-facility/
LOCATION:Waterview in Bicentennial Park\, Sydney\, NSW\, Australia
ATTACH;FMTTYPE=image/jpeg:https://sci.edu.au/wp-content/uploads/2025/05/Sydney-2025-Shaukat-Khanum-Gala-Event.jpg
END:VEVENT
BEGIN:VEVENT
DTSTART;TZID=UTC:20241220T180000
DTEND;TZID=UTC:20241220T230000
DTSTAMP:20260423T071203
CREATED:20250501T053021Z
LAST-MODIFIED:20250530T063427Z
UID:12369-1734717600-1734735600@sci.edu.au
SUMMARY:Celebrating a Year of Success: SCI's End-of-Year Celebration
DESCRIPTION:
URL:https://sci.edu.au/event/celebrating-a-year-of-success-scis-end-of-year-celebration/
LOCATION:Le Montage\, Lilyfield\, NSW\, Australia
ATTACH;FMTTYPE=image/jpeg:https://sci.edu.au/wp-content/uploads/2025/05/474463509_122212770404023855_5402059946372945983_n.jpg
END:VEVENT
BEGIN:VEVENT
DTSTART;TZID=UTC:20241129T110000
DTEND;TZID=UTC:20241129T130000
DTSTAMP:20260423T071203
CREATED:20240620T073014Z
LAST-MODIFIED:20250611T002816Z
UID:11047-1732878000-1732885200@sci.edu.au
SUMMARY:Academic Staff Induction
DESCRIPTION:
URL:https://sci.edu.au/event/academic-staff-induction/
LOCATION:Level 2/1 Fitzwilliam St\, Parramatta NSW 2150
CATEGORIES:Staff Induction
ATTACH;FMTTYPE=image/png:https://sci.edu.au/wp-content/uploads/2024/06/Staff-Induction-1.png
ORGANIZER;CN="Southern Cross Institute (SCI)":MAILTO:info@sci.edu.au
END:VEVENT
BEGIN:VEVENT
DTSTART;TZID=Asia/Ho_Chi_Minh:20241017T130000
DTEND;TZID=Asia/Ho_Chi_Minh:20241017T160000
DTSTAMP:20260423T071203
CREATED:20250516T000949Z
LAST-MODIFIED:20250516T002146Z
UID:12926-1729170000-1729180800@sci.edu.au
SUMMARY:SCI is at the CISS College and University Fair 2023\, Ho Chi Minh City\, Vietnam
DESCRIPTION:SCI takes a step closer with our Vietnamese students.
URL:https://sci.edu.au/event/sci-is-at-the-ciss-college-and-university-fair-2023-ho-chi-minh-city-vietnam/
LOCATION:Ho Chi Minh City\, Vietnam
ATTACH;FMTTYPE=image/jpeg:https://sci.edu.au/wp-content/uploads/2025/05/University-Fair-2023-Vietnam-4.jpeg
END:VEVENT
BEGIN:VEVENT
DTSTART;TZID=UTC:20241008T080000
DTEND;TZID=UTC:20241008T170000
DTSTAMP:20260423T071203
CREATED:20250805T032935Z
LAST-MODIFIED:20250805T032935Z
UID:13431-1728374400-1728406800@sci.edu.au
SUMMARY:SCI’s Scholarly Activity Funding Initiatives - Graduate Certificate in Education (Tertiary Education)
DESCRIPTION:Dr Anju Kalluvelil Janardhanan has completed the Graduate Certificate in Education (Tertiary Education) (GCETE) from Federation University\, supported by SCI’s Scholarly Activity Funding. This postgraduate qualification is tailored for academic staff involved in tertiary education and emphasises contemporary\, evidence-based teaching practices. Through studies in curriculum design\, assessment\, online and blended learning\, and student engagement\, Dr Janardhanan has further strengthened her pedagogical expertise to enhance learning outcomes in her discipline. She was also recognised with an Academic Excellence Award for achieving high distinction in all units. The course has equipped her with a solid foundation to implement innovative\, research-informed teaching strategies at SCI.
URL:https://sci.edu.au/event/scis-scholarly-activity-funding-initiatives-graduate-certificate-in-education-tertiary-education/
LOCATION:NSW
CATEGORIES:SCI’s Scholarly Activity Funding Initiatives - Graduate Certificate in Education (Tertiary Education)
ATTACH;FMTTYPE=image/jpeg:https://sci.edu.au/wp-content/uploads/2025/08/G241008FD014-DE0004.jpg
END:VEVENT
BEGIN:VEVENT
DTSTART;TZID=UTC:20241004T180000
DTEND;TZID=UTC:20241004T200000
DTSTAMP:20260423T071203
CREATED:20250501T055800Z
LAST-MODIFIED:20250501T055800Z
UID:12387-1728064800-1728072000@sci.edu.au
SUMMARY:Honouring Strength & Solidarity: Breast Cancer Awareness & APWA 2nd Anniversary
DESCRIPTION:
URL:https://sci.edu.au/event/honouring-strength-solidarity-breast-cancer-awareness-apwa-2nd-anniversary/
LOCATION:SCI Campus\, Level 2\, 1-3 Fitzwilliam Street\, Parramatta NSW 2150\, Australia
ATTACH;FMTTYPE=image/jpeg:https://sci.edu.au/wp-content/uploads/2025/05/472234352_122210274326023855_1073546929819131006_n.jpg
END:VEVENT
BEGIN:VEVENT
DTSTART;VALUE=DATE:20240924
DTEND;VALUE=DATE:20240925
DTSTAMP:20260423T071203
CREATED:20250501T061750Z
LAST-MODIFIED:20250501T065449Z
UID:12398-1727136000-1727222399@sci.edu.au
SUMMARY:Senator’s Forum @ SCI
DESCRIPTION:
URL:https://sci.edu.au/event/senators-forum-sci/
LOCATION:SCI Campus\, Level 2\, 1-3 Fitzwilliam Street\, Parramatta NSW 2150\, Australia
CATEGORIES:Senator’s Forum @ SCI
ATTACH;FMTTYPE=image/jpeg:https://sci.edu.au/wp-content/uploads/2025/05/IMG_1676-scaled.jpg
END:VEVENT
BEGIN:VEVENT
DTSTART;TZID=UTC:20240921T080000
DTEND;TZID=UTC:20240921T170000
DTSTAMP:20260423T071203
CREATED:20250501T070031Z
LAST-MODIFIED:20250501T070138Z
UID:12433-1726905600-1726938000@sci.edu.au
SUMMARY:Engagement Dinner with Academics and Agriculture Entrepreneurs from Pakistan\, Bangladesh\, and Ethiopia
DESCRIPTION:
URL:https://sci.edu.au/event/engagement-dinner-with-academics-and-agriculture-entrepreneurs-from-pakistan-bangladesh-and-ethiopia/
LOCATION:Himalaya Restaurant\, Function Centre\, Granville\, NSW\, Australia
ATTACH;FMTTYPE=image/jpeg:https://sci.edu.au/wp-content/uploads/2025/05/image001.jpg
END:VEVENT
BEGIN:VEVENT
DTSTART;TZID=UTC:20240920T080000
DTEND;TZID=UTC:20240920T170000
DTSTAMP:20260423T071203
CREATED:20250923T001623Z
LAST-MODIFIED:20250923T001623Z
UID:13726-1726819200-1726851600@sci.edu.au
SUMMARY:Teaching for Tomorrow – Professional Learning Series: Artificial Intelligence (AI) in Higher Education
DESCRIPTION:On 20 September 2024\, the Teaching for Tomorrow professional learning series featured an insightful session on the role of Artificial Intelligence (AI) in higher education. Led by Dr Ian Benton\, Chair of the Academic Board at Canterbury Institute of Management\, the session explored how AI can enhance teaching and learning\, improve student engagement\, and support academic decision-making. \nParticipants gained practical insights into integrating AI tools into curricula\, addressing ethical considerations\, and fostering innovative pedagogical practices. The session provided valuable guidance for academic staff seeking to leverage AI to transform higher education teaching.
URL:https://sci.edu.au/event/teaching-for-tomorrow-professional-learning-series-artificial-intelligence-ai-in-higher-education/
LOCATION:Level 2/1 Fitzwilliam St\, Parramatta NSW 2150
ATTACH;FMTTYPE=image/jpeg:https://sci.edu.au/wp-content/uploads/2025/09/016f65fc-3e8a-42d4-9b03-23091a94157b-scaled.jpg
ORGANIZER;CN="Southern Cross Institute (SCI)":MAILTO:info@sci.edu.au
END:VEVENT
BEGIN:VEVENT
DTSTART;TZID=UTC:20240825T100000
DTEND;TZID=UTC:20240825T120000
DTSTAMP:20260423T071203
CREATED:20250515T015350Z
LAST-MODIFIED:20250515T234610Z
UID:12780-1724580000-1724587200@sci.edu.au
SUMMARY:Philanthropic Initiative: SCI x Aalam Bibi Foundation
DESCRIPTION:Adj Prof Asif Iqbal visits Aalam Bibi Taleem-o-Tarbiyat School
URL:https://sci.edu.au/event/philanthropic-initiative-sci-x-aalam-bibi-foundation-adj-prof-asif-iqbal-visits-aalam-bibi-taleem-o-tarbiyat-school/
LOCATION:Lahore\, Punjab\, Pakistan
ATTACH;FMTTYPE=image/jpeg:https://sci.edu.au/wp-content/uploads/2025/05/Cover-SCI-x-Aalam-Bibi-Foundation-Aalam-Trabiyat-School-2.jpeg
END:VEVENT
BEGIN:VEVENT
DTSTART;TZID=UTC:20240711T123000
DTEND;TZID=UTC:20240711T130000
DTSTAMP:20260423T071203
CREATED:20250502T011948Z
LAST-MODIFIED:20250502T011948Z
UID:12471-1720701000-1720702800@sci.edu.au
SUMMARY:At SCI\, You Matter: Celebrating Mr Sonit Panjwani’s Birthday from the Information Systems Class
DESCRIPTION:
URL:https://sci.edu.au/event/at-sci-you-matter-celebrating-mr-sonit-panjwanis-birthday-from-the-information-systems-class/
LOCATION:Level 2/1 Fitzwilliam St\, Parramatta NSW 2150
CATEGORIES:You Matter: Celebrating Mr Sonit Panjwani’s Birthday from the Information Systems Class
ATTACH;FMTTYPE=image/jpeg:https://sci.edu.au/wp-content/uploads/2025/05/469667936_122117829602409115_2802480405233266135_n.jpg
END:VEVENT
BEGIN:VEVENT
DTSTART;TZID=UTC:20240711T090000
DTEND;TZID=UTC:20240711T100000
DTSTAMP:20260423T071203
CREATED:20250502T012813Z
LAST-MODIFIED:20250805T032803Z
UID:12479-1720688400-1720692000@sci.edu.au
SUMMARY:SCI's Scholarly Activity Funding Initiatives - HERDSA 2024 Annual Conference
DESCRIPTION:Dr Anju Kalluvelil Janardhanan\, Deputy Dean SCI presented a round table discussion on the topic Managing Academic Integrity in the Age of Generative Artificial Intelligence: An Accounting Teacher’s Perspective at HERDSA 2024 Annual Conference in Adelaide Convention Centre on 8-11 July 2024.
URL:https://sci.edu.au/event/scis-dr-anju-kalluvelil-janardhanan-presented-at-herdsa-2024-on-academic-integrity-in-the-age-of-ai/
LOCATION:Adelaide Convention Centre\, Riverbank Rooms 3+4\, Australia
ATTACH;FMTTYPE=image/jpeg:https://sci.edu.au/wp-content/uploads/2025/05/471817401_122209268936023855_7764396794349277269_n.jpg
END:VEVENT
BEGIN:VEVENT
DTSTART;TZID=UTC:20240525T180000
DTEND;TZID=UTC:20240525T220000
DTSTAMP:20260423T071203
CREATED:20250502T013917Z
LAST-MODIFIED:20250502T014404Z
UID:12483-1716660000-1716674400@sci.edu.au
SUMMARY:Leadership and Innovation: Insights from Mr Salim Ghauri\, Founder & CEO of NetSol Technologies
DESCRIPTION:
URL:https://sci.edu.au/event/leadership-and-innovation-insights-from-mr-salim-ghauri-founder-ceo-of-netsol-technologies/
LOCATION:SCI Campus\, Level 2\, 1-3 Fitzwilliam Street\, Parramatta NSW 2150\, Australia
ATTACH;FMTTYPE=image/jpeg:https://sci.edu.au/wp-content/uploads/2025/05/471264400_122209131938023855_8282893722403858200_n.jpg
END:VEVENT
BEGIN:VEVENT
DTSTART;TZID=UTC:20240420T180000
DTEND;TZID=UTC:20240420T220000
DTSTAMP:20260423T071203
CREATED:20250502T015831Z
LAST-MODIFIED:20250502T015831Z
UID:12512-1713636000-1713650400@sci.edu.au
SUMMARY:SCI's Esteemed Partners Gathering Dinner
DESCRIPTION:
URL:https://sci.edu.au/event/scis-esteemed-partners-gathering-dinner/
LOCATION:Sarena Hotel\, Faisalabad\, Pakistan\, Pakistan
ATTACH;FMTTYPE=image/jpeg:https://sci.edu.au/wp-content/uploads/2025/05/471408136_122208971198023855_3038979499419035185_n.jpg
END:VEVENT
BEGIN:VEVENT
DTSTART;TZID=UTC:20240206T080000
DTEND;TZID=UTC:20240209T170000
DTSTAMP:20260423T071203
CREATED:20250814T033214Z
LAST-MODIFIED:20250824T234243Z
UID:13479-1707206400-1707498000@sci.edu.au
SUMMARY:SCI’s Scholarly Activity Funding Initiatives – CAUTHE 2024 Annual Conference
DESCRIPTION:Dr Song Ee Hahn\, Academic Director – Hospitality Management\, represented Southern Cross Institute (SCI) at the CAUTHE 2024 Annual Conference and Chapter Directors’ Meeting held in Hobart on 9 February 2024. \nThe conference was a valuable platform for networking\, collaboration\, and knowledge sharing. Notably\, SCI was officially introduced to the CAUTHE community during the Annual General Meeting\, with a warm welcome from the CAUTHE Chair\, Professor Erica Wilson (Southern Cross University)\, marking our formal inclusion as a chapter member. \nDr Hahn also participated in the Special Interest Group session\, engaging in timely discussions on current learning and teaching issues in tourism and hospitality education. The event provided a strong foundation for future academic engagement and collaboration across the sector.
URL:https://sci.edu.au/event/scis-scholarly-activity-funding-initiatives-cauthe-2024-annual-conference/
LOCATION:Hobart\, Tasmania
CATEGORIES:SCI’s Scholarly Activity Funding Initiatives – CAUTHE 2024 Annual Conference
ATTACH;FMTTYPE=image/jpeg:https://sci.edu.au/wp-content/uploads/2025/08/eed50154-cf0d-4a71-88c6-6af5362dd977.jpg
END:VEVENT
BEGIN:VEVENT
DTSTART;TZID=UTC:20231215T180000
DTEND;TZID=UTC:20231215T220000
DTSTAMP:20260423T071203
CREATED:20250502T021401Z
LAST-MODIFIED:20250502T021402Z
UID:12554-1702663200-1702677600@sci.edu.au
SUMMARY:Honouring a Year of Achievements: SCI’s End-of-Year Celebration
DESCRIPTION:
URL:https://sci.edu.au/event/honouring-a-year-of-achievements-scis-end-of-year-celebration/
LOCATION:The Grounds of Alexandria\, Alexandria\, 2015\, Australia
ATTACH;FMTTYPE=image/jpeg:https://sci.edu.au/wp-content/uploads/2025/05/470161437_122206970264023855_6485571590289516500_n.jpg
END:VEVENT
BEGIN:VEVENT
DTSTART;TZID=UTC:20231208T090000
DTEND;TZID=UTC:20231208T120000
DTSTAMP:20260423T071203
CREATED:20250522T010128Z
LAST-MODIFIED:20250723T035757Z
UID:12975-1702026000-1702036800@sci.edu.au
SUMMARY:Teaching for Tomorrow - Professional Learning Series :  Developing SoTL - Encouraging teachers to research their teaching practice and their students’ learning
DESCRIPTION:Associate Professor Alison Owens conducted a professional learning session on Developing SoTL – Encouraging teachers to research their teaching practice and their students’ learning.
URL:https://sci.edu.au/event/professional-development-session-developing-sotl-encouraging-teachers-to-research-their-teaching-practice-and-their-students-learning/
LOCATION:Southern Cross Institute (SCI)\, Level 2\, 1-3 Fitzwilliam Street\,\, Parramatta\, NSW\, 2150\, Australia
ATTACH;FMTTYPE=image/jpeg:https://sci.edu.au/wp-content/uploads/2025/05/PD-Session-P9.jpg
END:VEVENT
BEGIN:VEVENT
DTSTART;TZID=UTC:20231201T090000
DTEND;TZID=UTC:20231201T120000
DTSTAMP:20260423T071203
CREATED:20250522T004537Z
LAST-MODIFIED:20250723T040011Z
UID:12970-1701421200-1701432000@sci.edu.au
SUMMARY:Teaching for Tomorrow - Professional Learning Series : Cultural Intelligence in the Context of Academia
DESCRIPTION:Dr. Esther Ngocha-Chaderopa conducted a professional learning session on Cultural Intelligence in the Context of Academia.
URL:https://sci.edu.au/event/professional-development-session-cultural-intelligence-in-the-context-of-academia/
LOCATION:Southern Cross Institute (SCI)\, Level 2\, 1-3 Fitzwilliam Street\,\, Parramatta\, NSW\, 2150\, Australia
ATTACH;FMTTYPE=image/jpeg:https://sci.edu.au/wp-content/uploads/2025/05/Photo-2-PD-Dr-Esther-1-Dec-2023.jpg
END:VEVENT
BEGIN:VEVENT
DTSTART;TZID=UTC:20231124T120000
DTEND;TZID=UTC:20231124T130000
DTSTAMP:20260423T071203
CREATED:20250502T023034Z
LAST-MODIFIED:20250502T054758Z
UID:12590-1700827200-1700830800@sci.edu.au
SUMMARY:SCI Hosts Diwali Celebration Lunch with Valued Agent Partners
DESCRIPTION:
URL:https://sci.edu.au/event/sci-hosts-diwali-celebration-lunch-with-valued-agent-partners/
LOCATION:SCI Campus\, Level 2\, 1-3 Fitzwilliam Street\, Parramatta NSW 2150\, Australia
ATTACH;FMTTYPE=image/jpeg:https://sci.edu.au/wp-content/uploads/2025/05/470145089_122206615592023855_8588762521617332272_n.jpg
ORGANIZER;CN="Southern Cross Institute (SCI)":MAILTO:info@sci.edu.au
END:VEVENT
BEGIN:VEVENT
DTSTART;VALUE=DATE:20231026
DTEND;VALUE=DATE:20231027
DTSTAMP:20260423T071203
CREATED:20250502T060058Z
LAST-MODIFIED:20250502T061407Z
UID:12628-1698278400-1698364799@sci.edu.au
SUMMARY:SCI hosted Right to Education: Education Strengthens Communities with Dr Farah Deeba
DESCRIPTION:
URL:https://sci.edu.au/event/sci-hosted-right-to-education-education-strengthens-communities-with-dr-farah-deeba/
LOCATION:Faisalabad\, Pakistan
CATEGORIES:SCI hosted Right to Education: Education Strengthens Communities with Dr Farah Deeba
ATTACH;FMTTYPE=image/jpeg:https://sci.edu.au/wp-content/uploads/2025/05/480503635_1051948816953687_3261488887407175447_n.jpg
END:VEVENT
BEGIN:VEVENT
DTSTART;TZID=UTC:20231019T100000
DTEND;TZID=UTC:20231019T120000
DTSTAMP:20260423T071203
CREATED:20250516T002541Z
LAST-MODIFIED:20250516T023549Z
UID:12934-1697709600-1697716800@sci.edu.au
SUMMARY:SCI Visits Công Ty Cổ Phần Đầu Tư Việt Phú\, Ho Chi Minh City\, Vietnam
DESCRIPTION:Engaging conversations with Mr. Dat\, Ms. Huong\, and Ms. Thao discussing SCI courses\, seizing the opportunity to present SCI directly to eager prospective students.
URL:https://sci.edu.au/event/sci-visits-cong-ty-co-phan-dau-tu-viet-phu-ho-chi-minh-city-vietnam/
LOCATION:Ho Chi Minh City\, Vietnam
ATTACH;FMTTYPE=image/jpeg:https://sci.edu.au/wp-content/uploads/2025/05/SCI-Visits-Vietnam-School-3.jpeg
END:VEVENT
BEGIN:VEVENT
DTSTART;TZID=UTC:20231017T130000
DTEND;TZID=UTC:20231017T160000
DTSTAMP:20260423T071203
CREATED:20250502T060925Z
LAST-MODIFIED:20250516T030333Z
UID:12666-1697547600-1697558400@sci.edu.au
SUMMARY:SCI Participates in the CISS College & University Fair
DESCRIPTION:SCI takes a step closer with our Vietnamese students.
URL:https://sci.edu.au/event/sci-participates-in-the-ciss-college-university-fair/
LOCATION:Ho Chi Minh City\, Vietnam
CATEGORIES:SCI Participates in the CISS College & University Fair
ATTACH;FMTTYPE=image/jpeg:https://sci.edu.au/wp-content/uploads/2025/05/469754787_122206188092023855_7006644123724882035_n.jpg
END:VEVENT
BEGIN:VEVENT
DTSTART;TZID=UTC:20230224T090000
DTEND;TZID=UTC:20230224T150000
DTSTAMP:20260423T071203
CREATED:20230226T030107Z
LAST-MODIFIED:20250522T034931Z
UID:12808-1677229200-1677250800@sci.edu.au
SUMMARY:SCI Inaugural Orientation\, Semester 1\, 2023
DESCRIPTION:
URL:https://sci.edu.au/event/sci-inaugural-orientation-semester-1-2023/
LOCATION:Southern Cross Institute (SCI)\, Level 2\, 1-3 Fitzwilliam Street\,\, Parramatta\, NSW\, 2150\, Australia
CATEGORIES:SCI Inaugural Orientation
ATTACH;FMTTYPE=image/jpeg:https://sci.edu.au/wp-content/uploads/2025/05/SCI-Inaugural-Orientation-Semester-1-2023-3-scaled.jpg
END:VEVENT
BEGIN:VEVENT
DTSTART;TZID=UTC:20230101T080000
DTEND;TZID=UTC:20230101T170000
DTSTAMP:20260423T071203
CREATED:20250701T013333Z
LAST-MODIFIED:20250701T013523Z
UID:13228-1672560000-1672592400@sci.edu.au
SUMMARY:Ongoing Philanthropic Initiative: SCI x Bilqees Beghum Free Dispensary
DESCRIPTION:Access to complimentary healthcare services for underprivileged individuals
URL:https://sci.edu.au/event/ongoing-philanthropic-initiative-sci-x-bilqees-beghum-free-dispensary/
LOCATION:Faisalabad\, Pakistan
ATTACH;FMTTYPE=image/jpeg:https://sci.edu.au/wp-content/uploads/2025/05/Cover-Photo.jpeg
ORGANIZER;CN="Southern Cross Institute (SCI)":MAILTO:info@sci.edu.au
END:VEVENT
END:VCALENDAR