BEGIN:VCALENDAR
VERSION:2.0
PRODID:-//Southern Cross Institute - ECPv6.15.20//NONSGML v1.0//EN
CALSCALE:GREGORIAN
METHOD:PUBLISH
X-ORIGINAL-URL:https://sci.edu.au
X-WR-CALDESC:Events for Southern Cross Institute
REFRESH-INTERVAL;VALUE=DURATION:PT1H
X-Robots-Tag:noindex
X-PUBLISHED-TTL:PT1H
BEGIN:VTIMEZONE
TZID:UTC
BEGIN:STANDARD
TZOFFSETFROM:+0000
TZOFFSETTO:+0000
TZNAME:UTC
DTSTART:20250101T000000
END:STANDARD
END:VTIMEZONE
BEGIN:VEVENT
DTSTART;TZID=UTC:20260209T080000
DTEND;TZID=UTC:20260212T170000
DTSTAMP:20260423T073529
CREATED:20260216T224811Z
LAST-MODIFIED:20260216T224811Z
UID:14253-1770624000-1770915600@sci.edu.au
SUMMARY:SCI’s Scholarly Activity Funding Initiatives – CAUTHE 2026 Annual Conference
DESCRIPTION:Dr Song Ee Hahn attended the CAUTHE 2026 Annual Conference held at the National Wine Centre\, Adelaide\, from 9–12 February 2026\, where she presented her paper titled: \nEnhancing Learning Effectiveness in Tourism and Hospitality Education in the Artificial Intelligence Era. \nHer presentation sparked meaningful discussion on AI integration and student learning effectiveness in hospitality education. Dr Hahn also participated in the Teaching and Learning Special Interest Group session\, engaging with peers on current academic challenges and innovations. \nOverall\, the conference was a valuable opportunity to strengthen professional networks and reinforce SCI’s commitment to excellence in teaching and learning in the AI era.
URL:https://sci.edu.au/event/scis-scholarly-activity-funding-initiatives-cauthe-2026-annual-conference/
LOCATION:National Wine Centre\, Adelaide
CATEGORIES:SCI’s Scholarly Activity Funding Initiatives – CAUTHE 2026 Annual Conference
ATTACH;FMTTYPE=image/jpeg:https://sci.edu.au/wp-content/uploads/2026/02/unnamed-scaled.jpg
END:VEVENT
BEGIN:VEVENT
DTSTART;TZID=UTC:20260216T080000
DTEND;TZID=UTC:20260216T170000
DTSTAMP:20260423T073529
CREATED:20260226T040529Z
LAST-MODIFIED:20260330T232003Z
UID:14280-1771228800-1771261200@sci.edu.au
SUMMARY:Southern Cross Institute Hosts University of Zadar Academic Delegates
DESCRIPTION:Southern Cross Institute (SCI) recently had the pleasure of hosting two European academics\, Prof Mladen Rajko and Prof Aleksandra Krajnović from the University of Zadar\, as part of a European Union–funded Erasmus+ Staff Training Mobility Visit. \nThe visit was an important milestone in SCI’s ongoing commitment to international engagement\, building global partnerships\, and academic collaboration. Fully funded through the European Union\, the visit focused on professional exchange\, institutional familiarisation\, and relationship building. \nDuring the staff training held at SCI’s Fitzwilliam Street campus\, the visiting academics engaged in a series of structured meetings with SCI’s academic leadership\, compliance team\, library and learning support staff\, and student support services. Discussions explored SCI’s academic programs\, teaching philosophy\, curriculum design\, student engagement strategies\, and research interests\, alongside shared reflections on higher education practices in Australia and Europe. \nSouthern Cross Institute values this meaningful engagement and sees the Erasmus+ staff training visit as a strong foundation for developing sustainable\, mutually beneficial partnerships with European higher education institutions. SCI looks forward to continuing discussions with the University of Zadar and strengthening its global academic network in support of teaching excellence\, research innovation\, and internationalisation.
URL:https://sci.edu.au/event/southern-cross-institute-hosts-university-of-zadar-academic-delegates/
CATEGORIES:Southern Cross Institute Hosts University of Zadar Academic Delegates
ATTACH;FMTTYPE=image/jpeg:https://sci.edu.au/wp-content/uploads/2026/02/Visiting-Scholar8.jpg
END:VEVENT
BEGIN:VEVENT
DTSTART;TZID=UTC:20260223T080000
DTEND;TZID=UTC:20260223T170000
DTSTAMP:20260423T073529
CREATED:20260330T015505Z
LAST-MODIFIED:20260415T015326Z
UID:14530-1771833600-1771866000@sci.edu.au
SUMMARY:Semester 1\, 2026 New Student Orientation
DESCRIPTION:
URL:https://sci.edu.au/event/semester-1-2026-new-student-orientation/
CATEGORIES:2026 New Student Orientation
ATTACH;FMTTYPE=image/jpeg:https://sci.edu.au/wp-content/uploads/2026/03/IMG_8527-scaled.jpg
END:VEVENT
BEGIN:VEVENT
DTSTART;TZID=UTC:20260227T100000
DTEND;TZID=UTC:20260227T110000
DTSTAMP:20260423T073529
CREATED:20260305T062922Z
LAST-MODIFIED:20260305T062923Z
UID:14317-1772186400-1772190000@sci.edu.au
SUMMARY:SCI Orientation Day | March 2026
DESCRIPTION:
URL:https://sci.edu.au/event/sci-orientation-day-march-2026/
LOCATION:Southern Cross Institute (SCI)\, Level 2\, 1-3 Fitzwilliam Street\,\, Parramatta\, NSW\, 2150\, Australia
CATEGORIES:SCI Orientation Day | March 2026
ATTACH;FMTTYPE=image/png:https://sci.edu.au/wp-content/uploads/2026/03/Semester-1.png
END:VEVENT
BEGIN:VEVENT
DTSTART;TZID=UTC:20260303T080000
DTEND;TZID=UTC:20260303T170000
DTSTAMP:20260423T073529
CREATED:20260330T014436Z
LAST-MODIFIED:20260330T231737Z
UID:14518-1772524800-1772557200@sci.edu.au
SUMMARY:Gender-Based Violence Awareness Session
DESCRIPTION:
URL:https://sci.edu.au/event/gender-based-violence-awareness-session/
LOCATION:SCI Campus\, Level 2\, 1-3 Fitzwilliam Street\, Parramatta NSW 2150\, Australia
CATEGORIES:Gender-Based Violence
ATTACH;FMTTYPE=image/jpeg:https://sci.edu.au/wp-content/uploads/2026/03/IMG_1548-scaled.jpg
END:VEVENT
BEGIN:VEVENT
DTSTART;TZID=UTC:20260309T080000
DTEND;TZID=UTC:20260328T170000
DTSTAMP:20260423T073529
CREATED:20260331T000926Z
LAST-MODIFIED:20260331T000926Z
UID:14546-1773043200-1774717200@sci.edu.au
SUMMARY:Academic Integrity Awareness Week 2\, 3 & 4 Semester 1 2026
DESCRIPTION:
URL:https://sci.edu.au/event/academic-integrity-awareness-week-2-3-4-semester-1-2026/
LOCATION:Southern Cross Institute (SCI)\, Level 2\, 1-3 Fitzwilliam Street\,\, Parramatta\, NSW\, 2150\, Australia
ATTACH;FMTTYPE=image/jpeg:https://sci.edu.au/wp-content/uploads/2026/03/Academic-Integrity-Awareness-S12026-new-revised-3_page-0001.jpg
END:VEVENT
BEGIN:VEVENT
DTSTART;TZID=UTC:20260309T083000
DTEND;TZID=UTC:20260320T173000
DTSTAMP:20260423T073529
CREATED:20260331T001241Z
LAST-MODIFIED:20260331T001241Z
UID:14550-1773045000-1774027800@sci.edu.au
SUMMARY:Library Services Usage Awareness Week (2 & 3) Semester 1\, 2026
DESCRIPTION:
URL:https://sci.edu.au/event/library-services-usage-awareness-week-2-3-semester-1-2026/
LOCATION:Southern Cross Institute (SCI)\, Level 2\, 1-3 Fitzwilliam Street\,\, Parramatta\, NSW\, 2150\, Australia
ATTACH;FMTTYPE=image/jpeg:https://sci.edu.au/wp-content/uploads/2026/03/SCI-Library-Serices-S12026-new-revised-new-timetable-3_page-0001-scaled.jpg
END:VEVENT
BEGIN:VEVENT
DTSTART;TZID=UTC:20260326T080000
DTEND;TZID=UTC:20260326T170000
DTSTAMP:20260423T073529
CREATED:20260421T002504Z
LAST-MODIFIED:20260421T004529Z
UID:14705-1774512000-1774544400@sci.edu.au
SUMMARY:Dean’s Commendation Letter 2025 – Academic Staff
DESCRIPTION:SCI is pleased to announce the recipients of the Dean’s Commendation Letter 2025 recognising outstanding academic contributions across research\, student engagement\, and international collaboration. \nOn the recommendation of the Deputy Dean\, Associate Professor Anju Kalluvelil Janardhanan\, this formal recognition acknowledges the recipients’ dedication and professional efforts in strengthening SCI’s research profile\, enhancing student engagement\, and building valuable external partnerships. Their contributions have significantly supported the growth and visibility of SCI’s institutional reputation and visibility. This achievement reflects their continued commitment to academic excellence. \nThe following staff members were recognised for their exceptional contributions: \n\nDr Made Handijaya Dewantara – International Collaboration\nDr Song EE Hahn – Student Engagement\nDr Carl Shi Yi – Student Engagement\nDr Eric Howard – Research Excellence\n\nSCI extends its sincere congratulations to all recipients and encourages their continued contribution to advancing excellence across teaching\, research\, and global engagement.
URL:https://sci.edu.au/event/deans-commendation-letter-2025-academic-staff/
CATEGORIES:Dean’s Commendation Letter 2025 – Academic Staff
ATTACH;FMTTYPE=image/png:https://sci.edu.au/wp-content/uploads/2026/04/Deans-Commendation-Letter-2025-–-Academic-Staff-2.png
END:VEVENT
BEGIN:VEVENT
DTSTART;TZID=UTC:20260420T080000
DTEND;TZID=UTC:20260420T170000
DTSTAMP:20260423T073529
CREATED:20260421T032111Z
LAST-MODIFIED:20260421T032345Z
UID:14713-1776672000-1776704400@sci.edu.au
SUMMARY:Exclusive Talk with Ms. Kyra Youn
DESCRIPTION:We were honoured to host Ms. Kyra Youn\, Guest Relations Manager at Sydney Harbour Marriott\, for an insightful guest lecture at Southern Cross Institute. \nHer session on Customer Service Excellence in the Hotel Industry provided our students with valuable real-world perspectives and a deeper understanding of guest relations in a luxury hospitality setting. \nWe sincerely thank Ms. Youn for her time\, expertise\, and inspiring contribution to our students’ learning experience. We look forward to welcoming her again in the future. \n 
URL:https://sci.edu.au/event/exclusive-talk-with-ms-kyra-youn/
CATEGORIES:Exclusive Talk with Ms. Kyra Youn
ATTACH;FMTTYPE=image/png:https://sci.edu.au/wp-content/uploads/2026/04/GL-Miss-Youn.png
END:VEVENT
END:VCALENDAR