BEGIN:VCALENDAR
VERSION:2.0
PRODID:-//Southern Cross Institute - ECPv6.15.20//NONSGML v1.0//EN
CALSCALE:GREGORIAN
METHOD:PUBLISH
X-ORIGINAL-URL:https://sci.edu.au
X-WR-CALDESC:Events for Southern Cross Institute
REFRESH-INTERVAL;VALUE=DURATION:PT1H
X-Robots-Tag:noindex
X-PUBLISHED-TTL:PT1H
BEGIN:VTIMEZONE
TZID:UTC
BEGIN:STANDARD
TZOFFSETFROM:+0000
TZOFFSETTO:+0000
TZNAME:UTC
DTSTART:20240101T000000
END:STANDARD
END:VTIMEZONE
BEGIN:VEVENT
DTSTART;TZID=UTC:20251008T080000
DTEND;TZID=UTC:20251008T170000
DTSTAMP:20260423T035222
CREATED:20251212T013146Z
LAST-MODIFIED:20260129T011921Z
UID:14098-1759910400-1759942800@sci.edu.au
SUMMARY:SCISA Pizza Lunch
DESCRIPTION:https://sci.edu.au/wp-content/uploads/2025/12/SCI-Pizza-Lunch.mp4
URL:https://sci.edu.au/event/scisa-pizza-lunch/
CATEGORIES:SCISA Pizza Lunch
ATTACH;FMTTYPE=image/png:https://sci.edu.au/wp-content/uploads/2025/12/SCISA-Pizza-Lunch-1080x1080px.png
END:VEVENT
END:VCALENDAR