BEGIN:VCALENDAR
VERSION:2.0
PRODID:-//Southern Cross Institute - ECPv6.15.20//NONSGML v1.0//EN
CALSCALE:GREGORIAN
METHOD:PUBLISH
X-ORIGINAL-URL:https://sci.edu.au
X-WR-CALDESC:Events for Southern Cross Institute
REFRESH-INTERVAL;VALUE=DURATION:PT1H
X-Robots-Tag:noindex
X-PUBLISHED-TTL:PT1H
BEGIN:VTIMEZONE
TZID:UTC
BEGIN:STANDARD
TZOFFSETFROM:+0000
TZOFFSETTO:+0000
TZNAME:UTC
DTSTART:20240101T000000
END:STANDARD
END:VTIMEZONE
BEGIN:VEVENT
DTSTART;TZID=UTC:20251125T080000
DTEND;TZID=UTC:20251125T170000
DTSTAMP:20260423T045211
CREATED:20260128T051855Z
LAST-MODIFIED:20260129T013841Z
UID:14154-1764057600-1764090000@sci.edu.au
SUMMARY:SCI Orientation Day | November 2025
DESCRIPTION:
URL:https://sci.edu.au/event/sci-orientation-day-november-2025/
CATEGORIES:SCI Orientation Day | November 2025
ATTACH;FMTTYPE=image/png:https://sci.edu.au/wp-content/uploads/2026/01/sUMMER.png
END:VEVENT
END:VCALENDAR