BEGIN:VCALENDAR
VERSION:2.0
PRODID:-//Southern Cross Institute - ECPv6.15.20//NONSGML v1.0//EN
CALSCALE:GREGORIAN
METHOD:PUBLISH
X-ORIGINAL-URL:https://sci.edu.au
X-WR-CALDESC:Events for Southern Cross Institute
REFRESH-INTERVAL;VALUE=DURATION:PT1H
X-Robots-Tag:noindex
X-PUBLISHED-TTL:PT1H
BEGIN:VTIMEZONE
TZID:UTC
BEGIN:STANDARD
TZOFFSETFROM:+0000
TZOFFSETTO:+0000
TZNAME:UTC
DTSTART:20240101T000000
END:STANDARD
END:VTIMEZONE
BEGIN:VEVENT
DTSTART;TZID=UTC:20250908T080000
DTEND;TZID=UTC:20250909T170000
DTSTAMP:20260423T043241
CREATED:20250918T001750Z
LAST-MODIFIED:20250923T002015Z
UID:13659-1757318400-1757437200@sci.edu.au
SUMMARY:SCI’s Scholarly Activity Funding Initiative - Promoting Mental Health and Well-being at Work
DESCRIPTION:Southern Cross Institute (SCI) is proud to recognise the dedication of Dr Anju Kalluvelil Janardhanan\, Deputy Dean\, and Ms Heena Panchal\, Compliance and Special Projects Director\, who have recently become Accredited Mental Health First Aider™ (MHFAider®). \nThrough this meaningful commitment\, they are nurturing a supportive culture at SCI\, empowering colleagues\, challenging stigma\, and ensuring mental health is given equal importance to physical health. \nA heartfelt thank you to Dr Janardhanan and Ms Panchal for dedicating their time\, energy\, and compassion. Your leadership and empathy will make a tangible difference in the lives of your colleagues. We also extend our gratitude to Ms Jodi McAlary\, Senior Consultant Facilitator\, MiTraining and MHFA Australia\, for delivering the standard mental health first aid course. \nTogether\, we are creating a culture where it’s okay to seek help and no one has to face challenges on their own.
URL:https://sci.edu.au/event/scis-scholarly-activity-funding-initiative-promoting-mental-health-and-well-being-at-work/
CATEGORIES:Promoting Mental Health and Well-being at Work,SCI’s Scholarly Activity Funding Initiative - Promoting Mental Health and Well-being at Work
ATTACH;FMTTYPE=image/jpeg:https://sci.edu.au/wp-content/uploads/2025/09/IMG_3782.jpg
END:VEVENT
END:VCALENDAR