BEGIN:VCALENDAR
VERSION:2.0
PRODID:-//Southern Cross Institute - ECPv6.15.20//NONSGML v1.0//EN
CALSCALE:GREGORIAN
METHOD:PUBLISH
X-WR-CALNAME:Southern Cross Institute
X-ORIGINAL-URL:https://sci.edu.au
X-WR-CALDESC:Events for Southern Cross Institute
REFRESH-INTERVAL;VALUE=DURATION:PT1H
X-Robots-Tag:noindex
X-PUBLISHED-TTL:PT1H
BEGIN:VTIMEZONE
TZID:UTC
BEGIN:STANDARD
TZOFFSETFROM:+0000
TZOFFSETTO:+0000
TZNAME:UTC
DTSTART:20240101T000000
END:STANDARD
END:VTIMEZONE
BEGIN:VEVENT
DTSTART;TZID=UTC:20251205T140000
DTEND;TZID=UTC:20251205T160000
DTSTAMP:20260423T034724
CREATED:20251209T044805Z
LAST-MODIFIED:20260129T011435Z
UID:14066-1764943200-1764950400@sci.edu.au
SUMMARY:Professional Learning Session on GenAI & Assessments – Process-Aware Models
DESCRIPTION:Associate Professor Anju Kalluvelil Janardhanan\, Deputy Dean\, facilitated an impactful professional learning session for the Academic Team and the Learning Support Team at Southern Cross Institute (SCI). The session strengthened staff capability in applying SCI’s GenAI institutional action plan and provided clear guidance on best-practice assessment design\, with demonstrated examples of both open and secure assessment models. Associate Professor Janardhanan also outlined practical strategies to maintain academic integrity in AI-enhanced learning environments\, supporting teams in refining assessment documentation and implementation for upcoming teaching periods.
URL:https://sci.edu.au/event/professional-learning-session-on-genai-assessments-process-aware-models/
LOCATION:SCI Campus\, Level 2\, 1-3 Fitzwilliam Street\, Parramatta NSW 2150\, Australia
CATEGORIES:Professional Learning Session on GenAI & Assessments – Process-Aware Models
ATTACH;FMTTYPE=image/jpeg:https://sci.edu.au/wp-content/uploads/2025/12/1-3.jpg
END:VEVENT
END:VCALENDAR