BEGIN:VCALENDAR
VERSION:2.0
PRODID:-//Southern Cross Institute - ECPv6.15.20//NONSGML v1.0//EN
CALSCALE:GREGORIAN
METHOD:PUBLISH
X-WR-CALNAME:Southern Cross Institute
X-ORIGINAL-URL:https://sci.edu.au
X-WR-CALDESC:Events for Southern Cross Institute
REFRESH-INTERVAL;VALUE=DURATION:PT1H
X-Robots-Tag:noindex
X-PUBLISHED-TTL:PT1H
BEGIN:VTIMEZONE
TZID:UTC
BEGIN:STANDARD
TZOFFSETFROM:+0000
TZOFFSETTO:+0000
TZNAME:UTC
DTSTART:20240101T000000
END:STANDARD
END:VTIMEZONE
BEGIN:VEVENT
DTSTART;TZID=UTC:20250815T080000
DTEND;TZID=UTC:20250815T130000
DTSTAMP:20260423T054413
CREATED:20250911T001217Z
LAST-MODIFIED:20250911T001217Z
UID:13596-1755244800-1755262800@sci.edu.au
SUMMARY:Professional development session on Cultural Capability
DESCRIPTION:Southern Cross Institute (SCI) sincerely thanks Ms Heather Kember and Dr David Newham from Mawambul Design & Cultural Consultancy for leading an insightful professional development session on Cultural Capability for our staff. \nThe session was engaging and highly informative\, covering: \n\nThe purpose of an Acknowledgement of Country and practical guidance on delivering one.\nTraditional stories\, including their morals\, values\, and significance.\nWays these practices foster respect and connection within educational spaces.\n\nTheir expertise\, thoughtful delivery\, and generosity in sharing knowledge provided our staff with valuable insights and strengthened our collective cultural understanding. \nThis was more than just a learning opportunity — it was a chance to reimagine the spaces where learning occurs. The session has inspired reflection\, growth\, and a deeper commitment to walking alongside our communities with understanding and respect. We are dedicated to carrying these lessons forward in our classrooms and beyond.
URL:https://sci.edu.au/event/professional-development-session-on-cultural-capability/
LOCATION:SCI Campus\, Level 2\, 1-3 Fitzwilliam Street\, Parramatta NSW 2150\, Australia
CATEGORIES:Professional development session on Cultural Capability
ATTACH;FMTTYPE=image/jpeg:https://sci.edu.au/wp-content/uploads/2025/09/IMG_3757-scaled.jpeg
ORGANIZER;CN="Southern Cross Institute (SCI)":MAILTO:info@sci.edu.au
END:VEVENT
END:VCALENDAR