BEGIN:VCALENDAR
VERSION:2.0
PRODID:-//Southern Cross Institute - ECPv6.15.20//NONSGML v1.0//EN
CALSCALE:GREGORIAN
METHOD:PUBLISH
X-WR-CALNAME:Southern Cross Institute
X-ORIGINAL-URL:https://sci.edu.au
X-WR-CALDESC:Events for Southern Cross Institute
REFRESH-INTERVAL;VALUE=DURATION:PT1H
X-Robots-Tag:noindex
X-PUBLISHED-TTL:PT1H
BEGIN:VTIMEZONE
TZID:UTC
BEGIN:STANDARD
TZOFFSETFROM:+0000
TZOFFSETTO:+0000
TZNAME:UTC
DTSTART:20250101T000000
END:STANDARD
END:VTIMEZONE
BEGIN:VEVENT
DTSTART;TZID=UTC:20260401T170000
DTEND;TZID=UTC:20260401T200000
DTSTAMP:20260424T090639
CREATED:20260424T011218Z
LAST-MODIFIED:20260424T011314Z
UID:14768-1775062800-1775073600@sci.edu.au
SUMMARY:Lord Mayor’s Welcome for International Students 2026
DESCRIPTION:SCI Students attended the Lord Mayor’s Welcome for International Students 2026 at Sydney Town Hall\, where they engaged with Sydney’s business and international community networks. The event featured a Welcome to Country\, cultural performances\, and valuable networking opportunities with industry and government representatives. Well done! \n 
URL:https://sci.edu.au/event/lord-mayors-welcome-for-international-students-2026/
LOCATION:Sydney Town Hall
CATEGORIES:Lord Mayor’s Welcome for International Students 2026
ATTACH;FMTTYPE=image/jpeg:https://sci.edu.au/wp-content/uploads/2026/04/IMG_2314-scaled.jpeg
END:VEVENT
END:VCALENDAR