BEGIN:VCALENDAR
VERSION:2.0
PRODID:-//Southern Cross Institute - ECPv6.15.20//NONSGML v1.0//EN
CALSCALE:GREGORIAN
METHOD:PUBLISH
X-WR-CALNAME:Southern Cross Institute
X-ORIGINAL-URL:https://sci.edu.au
X-WR-CALDESC:Events for Southern Cross Institute
REFRESH-INTERVAL;VALUE=DURATION:PT1H
X-Robots-Tag:noindex
X-PUBLISHED-TTL:PT1H
BEGIN:VTIMEZONE
TZID:UTC
BEGIN:STANDARD
TZOFFSETFROM:+0000
TZOFFSETTO:+0000
TZNAME:UTC
DTSTART:20240101T000000
END:STANDARD
END:VTIMEZONE
BEGIN:VEVENT
DTSTART;TZID=UTC:20251201T080000
DTEND;TZID=UTC:20251212T170000
DTSTAMP:20260423T055743
CREATED:20260112T043705Z
LAST-MODIFIED:20260129T012211Z
UID:14139-1764576000-1765558800@sci.edu.au
SUMMARY:Library Services Usage Awareness Week (week 1\,2)
DESCRIPTION:
URL:https://sci.edu.au/event/library-services-usage-awareness-week-week-12/
LOCATION:Southern Cross Institute (SCI)\, Level 2\, 1-3 Fitzwilliam Street\,\, Parramatta\, NSW\, 2150\, Australia
CATEGORIES:Library Services Usage Awareness Week (week 1
ATTACH;FMTTYPE=image/png:https://sci.edu.au/wp-content/uploads/2025/12/Option-1-2-1.png
END:VEVENT
END:VCALENDAR