BEGIN:VCALENDAR
VERSION:2.0
PRODID:-//Southern Cross Institute - ECPv6.15.20//NONSGML v1.0//EN
CALSCALE:GREGORIAN
METHOD:PUBLISH
X-WR-CALNAME:Southern Cross Institute
X-ORIGINAL-URL:https://sci.edu.au
X-WR-CALDESC:Events for Southern Cross Institute
REFRESH-INTERVAL;VALUE=DURATION:PT1H
X-Robots-Tag:noindex
X-PUBLISHED-TTL:PT1H
BEGIN:VTIMEZONE
TZID:UTC
BEGIN:STANDARD
TZOFFSETFROM:+0000
TZOFFSETTO:+0000
TZNAME:UTC
DTSTART:20240101T000000
END:STANDARD
END:VTIMEZONE
BEGIN:VEVENT
DTSTART;TZID=UTC:20250508T110000
DTEND;TZID=UTC:20250508T120000
DTSTAMP:20260423T104139
CREATED:20250511T233132Z
LAST-MODIFIED:20250516T000147Z
UID:12702-1746702000-1746705600@sci.edu.au
SUMMARY:Exclusive Talk with Prof. Joseph Cheer
DESCRIPTION: 
URL:https://sci.edu.au/event/exclusive-talk-with-prof-joseph-cheer/
LOCATION:Level 2/1 Fitzwilliam St\, Parramatta NSW 2150
CATEGORIES:Exclusive Talk with Prof. Joseph Cheer
ATTACH;FMTTYPE=image/png:https://sci.edu.au/wp-content/uploads/2025/05/Invited-Speaker-Series-Professor-Joseph-Cheer-Poster.png
ORGANIZER;CN="Southern Cross Institute (SCI)":MAILTO:info@sci.edu.au
END:VEVENT
END:VCALENDAR