BEGIN:VCALENDAR
VERSION:2.0
PRODID:-//Southern Cross Institute - ECPv6.15.20//NONSGML v1.0//EN
CALSCALE:GREGORIAN
METHOD:PUBLISH
X-WR-CALNAME:Southern Cross Institute
X-ORIGINAL-URL:https://sci.edu.au
X-WR-CALDESC:Events for Southern Cross Institute
REFRESH-INTERVAL;VALUE=DURATION:PT1H
X-Robots-Tag:noindex
X-PUBLISHED-TTL:PT1H
BEGIN:VTIMEZONE
TZID:UTC
BEGIN:STANDARD
TZOFFSETFROM:+0000
TZOFFSETTO:+0000
TZNAME:UTC
DTSTART:20240101T000000
END:STANDARD
END:VTIMEZONE
BEGIN:VEVENT
DTSTART;TZID=UTC:20250905T080000
DTEND;TZID=UTC:20250905T170000
DTSTAMP:20260422T171121
CREATED:20250905T012115Z
LAST-MODIFIED:20250911T000345Z
UID:13528-1757059200-1757091600@sci.edu.au
SUMMARY:Exclusive Talk with Ms. Grace Yap
DESCRIPTION:
URL:https://sci.edu.au/event/exclusive-talk-with-ms-grace-yap/
CATEGORIES:Exclusive Talk with Ms. Grace Yap
ATTACH;FMTTYPE=image/png:https://sci.edu.au/wp-content/uploads/2025/08/2.-Invited-Speaker-Series-Grace-Yap-1080x1080px.png
END:VEVENT
END:VCALENDAR