BEGIN:VCALENDAR
VERSION:2.0
PRODID:-//Southern Cross Institute - ECPv6.15.20//NONSGML v1.0//EN
CALSCALE:GREGORIAN
METHOD:PUBLISH
X-WR-CALNAME:Southern Cross Institute
X-ORIGINAL-URL:https://sci.edu.au
X-WR-CALDESC:Events for Southern Cross Institute
REFRESH-INTERVAL;VALUE=DURATION:PT1H
X-Robots-Tag:noindex
X-PUBLISHED-TTL:PT1H
BEGIN:VTIMEZONE
TZID:UTC
BEGIN:STANDARD
TZOFFSETFROM:+0000
TZOFFSETTO:+0000
TZNAME:UTC
DTSTART:20240101T000000
END:STANDARD
END:VTIMEZONE
BEGIN:VEVENT
DTSTART;TZID=UTC:20250926T110000
DTEND;TZID=UTC:20250926T120000
DTSTAMP:20260423T041831
CREATED:20251007T223304Z
LAST-MODIFIED:20251212T012828Z
UID:13751-1758884400-1758888000@sci.edu.au
SUMMARY:Exclusive Talk with Mr Sandeep Khera
DESCRIPTION:
URL:https://sci.edu.au/event/exclusive-talk-with-mr-sandeep-khera/
LOCATION:Level 2/1 Fitzwilliam St\, Parramatta NSW 2150
CATEGORIES:Exclusive Talk with Mr Sandeep Khera
ATTACH;FMTTYPE=image/png:https://sci.edu.au/wp-content/uploads/2025/09/2.-Invited-Speaker-Series-Mr-Sandeep-Khera-1080x1080px.png
ORGANIZER;CN="Southern Cross Institute (SCI)":MAILTO:info@sci.edu.au
END:VEVENT
END:VCALENDAR