BEGIN:VCALENDAR
VERSION:2.0
PRODID:-//Southern Cross Institute - ECPv6.15.20//NONSGML v1.0//EN
CALSCALE:GREGORIAN
METHOD:PUBLISH
X-WR-CALNAME:Southern Cross Institute
X-ORIGINAL-URL:https://sci.edu.au
X-WR-CALDESC:Events for Southern Cross Institute
REFRESH-INTERVAL;VALUE=DURATION:PT1H
X-Robots-Tag:noindex
X-PUBLISHED-TTL:PT1H
BEGIN:VTIMEZONE
TZID:UTC
BEGIN:STANDARD
TZOFFSETFROM:+0000
TZOFFSETTO:+0000
TZNAME:UTC
DTSTART:20240101T000000
END:STANDARD
END:VTIMEZONE
BEGIN:VEVENT
DTSTART;TZID=UTC:20251208T080000
DTEND;TZID=UTC:20260119T170000
DTSTAMP:20260423T040052
CREATED:20260112T005751Z
LAST-MODIFIED:20260129T012100Z
UID:14137-1765180800-1768842000@sci.edu.au
SUMMARY:Academic Integrity Awareness Week (Week 2\,3)
DESCRIPTION:
URL:https://sci.edu.au/event/academic-integrity-awareness-week-week-23/
LOCATION:Southern Cross Institute (SCI)\, Level 2\, 1-3 Fitzwilliam Street\,\, Parramatta\, NSW\, 2150\, Australia
CATEGORIES:Academic Integrity Awareness Week 2
ATTACH;FMTTYPE=image/jpeg:https://sci.edu.au/wp-content/uploads/2025/12/Academic-Integrity-Awareness-Poster-122025-2_page-0001.jpg
END:VEVENT
END:VCALENDAR