BEGIN:VCALENDAR
VERSION:2.0
PRODID:-//Southern Cross Institute - ECPv6.15.20//NONSGML v1.0//EN
CALSCALE:GREGORIAN
METHOD:PUBLISH
X-WR-CALNAME:Southern Cross Institute
X-ORIGINAL-URL:https://sci.edu.au
X-WR-CALDESC:Events for Southern Cross Institute
REFRESH-INTERVAL;VALUE=DURATION:PT1H
X-Robots-Tag:noindex
X-PUBLISHED-TTL:PT1H
BEGIN:VTIMEZONE
TZID:UTC
BEGIN:STANDARD
TZOFFSETFROM:+0000
TZOFFSETTO:+0000
TZNAME:UTC
DTSTART:20240101T000000
END:STANDARD
END:VTIMEZONE
BEGIN:VEVENT
DTSTART;TZID=UTC:20250728T080000
DTEND;TZID=UTC:20250815T170000
DTSTAMP:20260422T170941
CREATED:20250724T053206Z
LAST-MODIFIED:20250724T053339Z
UID:13323-1753689600-1755277200@sci.edu.au
SUMMARY:Academic Integrity Awareness Week 2\, 3\, 4 Semester 2 2025
DESCRIPTION:
URL:https://sci.edu.au/event/academic-integrity-awareness-week-2-3-4-semester-2-2025/
LOCATION:Southern Cross Institute (SCI)\, Level 2\, 1-3 Fitzwilliam Street\,\, Parramatta\, NSW\, 2150\, Australia
CATEGORIES:4 Semester 2 2025
ATTACH;FMTTYPE=image/png:https://sci.edu.au/wp-content/uploads/2025/07/SCI-Website-Event-Academic-Integrity-Awareness-S2-2025.png
ORGANIZER;CN="Southern Cross Institute (SCI)":MAILTO:info@sci.edu.au
END:VEVENT
END:VCALENDAR