BEGIN:VCALENDAR
VERSION:2.0
PRODID:-//Southern Cross Institute - ECPv6.15.20//NONSGML v1.0//EN
CALSCALE:GREGORIAN
METHOD:PUBLISH
X-ORIGINAL-URL:https://sci.edu.au
X-WR-CALDESC:Events for Southern Cross Institute
REFRESH-INTERVAL;VALUE=DURATION:PT1H
X-Robots-Tag:noindex
X-PUBLISHED-TTL:PT1H
BEGIN:VTIMEZONE
TZID:UTC
BEGIN:STANDARD
TZOFFSETFROM:+0000
TZOFFSETTO:+0000
TZNAME:UTC
DTSTART:20240101T000000
END:STANDARD
END:VTIMEZONE
BEGIN:VEVENT
DTSTART;TZID=UTC:20250704T080000
DTEND;TZID=UTC:20250704T170000
DTSTAMP:20260423T121228
CREATED:20250730T002925Z
LAST-MODIFIED:20250730T002925Z
UID:13384-1751616000-1751648400@sci.edu.au
SUMMARY:Academic Staff Induction - S2 2025
DESCRIPTION:
URL:https://sci.edu.au/event/academic-staff-induction-s2-2025/
LOCATION:Level 2/1 Fitzwilliam St\, Parramatta NSW 2150
ATTACH;FMTTYPE=image/jpeg:https://sci.edu.au/wp-content/uploads/2025/07/IMG_3306-scaled.jpg
ORGANIZER;CN="Southern Cross Institute (SCI)":MAILTO:info@sci.edu.au
END:VEVENT
END:VCALENDAR